BEGIN:VCALENDAR
VERSION:2.0
PRODID:-//Nick&#039;s Kettle Korn - ECPv6.15.20//NONSGML v1.0//EN
CALSCALE:GREGORIAN
METHOD:PUBLISH
X-ORIGINAL-URL:https://nickskettlekorn.com
X-WR-CALDESC:Events for Nick&#039;s Kettle Korn
REFRESH-INTERVAL;VALUE=DURATION:PT1H
X-Robots-Tag:noindex
X-PUBLISHED-TTL:PT1H
BEGIN:VTIMEZONE
TZID:America/Chicago
BEGIN:DAYLIGHT
TZOFFSETFROM:-0600
TZOFFSETTO:-0500
TZNAME:CDT
DTSTART:20210314T080000
END:DAYLIGHT
BEGIN:STANDARD
TZOFFSETFROM:-0500
TZOFFSETTO:-0600
TZNAME:CST
DTSTART:20211107T070000
END:STANDARD
BEGIN:DAYLIGHT
TZOFFSETFROM:-0600
TZOFFSETTO:-0500
TZNAME:CDT
DTSTART:20220313T080000
END:DAYLIGHT
BEGIN:STANDARD
TZOFFSETFROM:-0500
TZOFFSETTO:-0600
TZNAME:CST
DTSTART:20221106T070000
END:STANDARD
BEGIN:DAYLIGHT
TZOFFSETFROM:-0600
TZOFFSETTO:-0500
TZNAME:CDT
DTSTART:20230312T080000
END:DAYLIGHT
BEGIN:STANDARD
TZOFFSETFROM:-0500
TZOFFSETTO:-0600
TZNAME:CST
DTSTART:20231105T070000
END:STANDARD
END:VTIMEZONE
BEGIN:VEVENT
DTSTART;TZID=America/Chicago:20221008T030000
DTEND;TZID=America/Chicago:20221008T120000
DTSTAMP:20260423T102625
CREATED:20220617T173845Z
LAST-MODIFIED:20220617T174225Z
UID:468-1665198000-1665230400@nickskettlekorn.com
SUMMARY:Madison County Covered Bridge Festival
DESCRIPTION:Join us at the Madison County Covered Bridge Festival! We’ll be one of nearly 100 vendors and demonstrators\, and the list is still growing! Come out for delicious food\, activities\, entertainment\, tours of the covered bridge and more!
URL:https://nickskettlekorn.com/event/madison-county-covered-bridge-festival/2022-10-08/
LOCATION:Madison County Covered Bridge Festival\, 73 Jefferson St.\, Winterset\, Iowa\, 50273\, United States
ATTACH;FMTTYPE=image/jpeg:https://nickskettlekorn.com/wp-content/uploads/2022/06/covered-bridge-festival-nicks-kettle-korn.jpeg
END:VEVENT
BEGIN:VEVENT
DTSTART;TZID=America/Chicago:20220917T030000
DTEND;TZID=America/Chicago:20220917T080000
DTSTAMP:20260423T102625
CREATED:20220617T174706Z
LAST-MODIFIED:20220617T174800Z
UID:477-1663383600-1663401600@nickskettlekorn.com
SUMMARY:Rustic Home Vendor Show
DESCRIPTION:The  bi-annual event held\, at the Warren Co Fairgrounds\, has become a local favorite! This FUN show offers everyone a unique and one of a kind shopping experience. Whether looking for gifts\, home decor or original pieces\, this is a do not miss event! We will be there serving up popcorn and treats to fuel you for the show!
URL:https://nickskettlekorn.com/event/rustic-home-vendor-show/
LOCATION:Warren Co Fairgrounds\, 1400 W 2nd Ave\, Indianola\, IA\, 50125\, United States
ATTACH;FMTTYPE=image/jpeg:https://nickskettlekorn.com/wp-content/uploads/2022/06/rustic-home-vendor-show-nicks-kettle-korn.jpeg
END:VEVENT
BEGIN:VEVENT
DTSTART;TZID=America/Chicago:20220704T050000
DTEND;TZID=America/Chicago:20220704T110000
DTSTAMP:20260423T102625
CREATED:20220617T173312Z
LAST-MODIFIED:20220617T174248Z
UID:460-1656910800-1656932400@nickskettlekorn.com
SUMMARY:Armstrong Iowa 4th of July Celebration
DESCRIPTION:Come rock the streets of Armstrong\, Iowa for their 4th of July Celebration!
URL:https://nickskettlekorn.com/event/armstrong-iowa-4th-of-july-celebration/
LOCATION:Armstrong Iowa\, Armstrong\, Iowa\, United States
ATTACH;FMTTYPE=image/webp:https://nickskettlekorn.com/wp-content/uploads/2022/06/armstrong-iowa-fireworks.webp
END:VEVENT
BEGIN:VEVENT
DTSTART;TZID=America/Chicago:20220618T050000
DTEND;TZID=America/Chicago:20220618T110000
DTSTAMP:20260423T102625
CREATED:20220527T170522Z
LAST-MODIFIED:20220617T175302Z
UID:377-1655528400-1655550000@nickskettlekorn.com
SUMMARY:Macksburg Skillet Throw
DESCRIPTION:Join us at City Park in Macksburg\, Iowa for the annual National Skillet Throw! We’ll provide the snacks needed to become a champion.
URL:https://nickskettlekorn.com/event/macksburg-skillet-throw/
LOCATION:Macksburg Skillet Throw – City Park\, Macksburg\, Iowa\, United States
ATTACH;FMTTYPE=image/jpeg:https://nickskettlekorn.com/wp-content/uploads/2022/05/macksburg-national-skillet-throw-nicks-kettle-korn.jpeg
END:VEVENT
BEGIN:VEVENT
DTSTART;TZID=America/Chicago:20220514T030000
DTEND;TZID=America/Chicago:20220514T070000
DTSTAMP:20260423T102625
CREATED:20220617T172544Z
LAST-MODIFIED:20220617T172812Z
UID:435-1652497200-1652511600@nickskettlekorn.com
SUMMARY:Madison County Farmers Market
DESCRIPTION:Madison County Farmers Market is a small local vendor farmers market providing FRESH Iowa home grown\, including our popcorn\, nuts\, and lemonade! We hope to see you there. 
URL:https://nickskettlekorn.com/event/madison-county-farmers-market/2022-05-14/
LOCATION:Madison County Farmers Market\, 112 N. John Wayne Dr.\, Winterset\, Iowa\, 50273
ATTACH;FMTTYPE=image/jpeg:https://nickskettlekorn.com/wp-content/uploads/2022/05/nicks-kettle-korn-event-4.jpeg
END:VEVENT
END:VCALENDAR